BEGIN:VCALENDAR
VERSION:2.0
PRODID:-//Walk and Bike Month - Boulder, CO - ECPv6.15.20//NONSGML v1.0//EN
CALSCALE:GREGORIAN
METHOD:PUBLISH
X-WR-CALNAME:Walk and Bike Month - Boulder, CO
X-ORIGINAL-URL:https://walkandbikemonth.org
X-WR-CALDESC:Events for Walk and Bike Month - Boulder, CO
REFRESH-INTERVAL;VALUE=DURATION:PT1H
X-Robots-Tag:noindex
X-PUBLISHED-TTL:PT1H
BEGIN:VTIMEZONE
TZID:America/Denver
BEGIN:DAYLIGHT
TZOFFSETFROM:-0700
TZOFFSETTO:-0600
TZNAME:MDT
DTSTART:20240310T090000
END:DAYLIGHT
BEGIN:STANDARD
TZOFFSETFROM:-0600
TZOFFSETTO:-0700
TZNAME:MST
DTSTART:20241103T080000
END:STANDARD
BEGIN:DAYLIGHT
TZOFFSETFROM:-0700
TZOFFSETTO:-0600
TZNAME:MDT
DTSTART:20250309T090000
END:DAYLIGHT
BEGIN:STANDARD
TZOFFSETFROM:-0600
TZOFFSETTO:-0700
TZNAME:MST
DTSTART:20251102T080000
END:STANDARD
BEGIN:DAYLIGHT
TZOFFSETFROM:-0700
TZOFFSETTO:-0600
TZNAME:MDT
DTSTART:20260308T090000
END:DAYLIGHT
BEGIN:STANDARD
TZOFFSETFROM:-0600
TZOFFSETTO:-0700
TZNAME:MST
DTSTART:20261101T080000
END:STANDARD
END:VTIMEZONE
BEGIN:VEVENT
DTSTART;TZID=America/Denver:20250604T173000
DTEND;TZID=America/Denver:20250604T190000
DTSTAMP:20260421T043613
CREATED:20250527T185637Z
LAST-MODIFIED:20250527T185637Z
UID:3127-1749058200-1749063600@walkandbikemonth.org
SUMMARY:Tour Boulder’s Public Art - Free
DESCRIPTION:The City of Boulder is offering free guided walking tours of downtown Boulder’s public art starting Wednesday\, June 4\, 2025. Each 1.5-hour tour features approximately 30 stops\, highlighting a diverse array of sculptures\, murals\, and urban design projects. \nBring your walking shoes and water bottles and join us in exploring downtown Boulder’s rich public art scene! Registration is required.
URL:https://walkandbikemonth.org/event/tour-boulders-public-art-free/
LOCATION:CO
ATTACH;FMTTYPE=image/jpeg:https://walkandbikemonth.org/wp-content/uploads/2025/05/downtown-art-tours.jpg
END:VEVENT
END:VCALENDAR