BEGIN:VCALENDAR
VERSION:2.0
PRODID:-//Walk and Bike Month - Boulder, CO - ECPv6.15.20//NONSGML v1.0//EN
CALSCALE:GREGORIAN
METHOD:PUBLISH
X-WR-CALNAME:Walk and Bike Month - Boulder, CO
X-ORIGINAL-URL:https://walkandbikemonth.org
X-WR-CALDESC:Events for Walk and Bike Month - Boulder, CO
REFRESH-INTERVAL;VALUE=DURATION:PT1H
X-Robots-Tag:noindex
X-PUBLISHED-TTL:PT1H
BEGIN:VTIMEZONE
TZID:America/Denver
BEGIN:DAYLIGHT
TZOFFSETFROM:-0700
TZOFFSETTO:-0600
TZNAME:MDT
DTSTART:20240310T090000
END:DAYLIGHT
BEGIN:STANDARD
TZOFFSETFROM:-0600
TZOFFSETTO:-0700
TZNAME:MST
DTSTART:20241103T080000
END:STANDARD
BEGIN:DAYLIGHT
TZOFFSETFROM:-0700
TZOFFSETTO:-0600
TZNAME:MDT
DTSTART:20250309T090000
END:DAYLIGHT
BEGIN:STANDARD
TZOFFSETFROM:-0600
TZOFFSETTO:-0700
TZNAME:MST
DTSTART:20251102T080000
END:STANDARD
BEGIN:DAYLIGHT
TZOFFSETFROM:-0700
TZOFFSETTO:-0600
TZNAME:MDT
DTSTART:20260308T090000
END:DAYLIGHT
BEGIN:STANDARD
TZOFFSETFROM:-0600
TZOFFSETTO:-0700
TZNAME:MST
DTSTART:20261101T080000
END:STANDARD
END:VTIMEZONE
BEGIN:VEVENT
DTSTART;TZID=America/Denver:20250608T090000
DTEND;TZID=America/Denver:20250608T120000
DTSTAMP:20260421T044413
CREATED:20250508T201136Z
LAST-MODIFIED:20250508T201136Z
UID:3082-1749373200-1749384000@walkandbikemonth.org
SUMMARY:Bicycle Rodeo
DESCRIPTION:This free fun event is for children 12 and younger to learn about bicycle safety from Lafayette police officers. There will be a road skills course\, helmet fits\, bike safety inspections AND lunch! Participants need to bring their bike and safety gear and will need to be accompanied by an adult to sign a release waiver form. Forms are available day of event. Several local sponsors will also be at this event to help make it fun for the whole family. Great event to kick off summer bike riding.
URL:https://walkandbikemonth.org/event/bicycle-rodeo/
LOCATION:201 Waneka Pkwy\, 201 Waneka Pkwy\, Lafayette\, CO
ATTACH;FMTTYPE=image/png:https://walkandbikemonth.org/wp-content/uploads/2025/05/lafayette-bike-rodeo.png
END:VEVENT
END:VCALENDAR