BEGIN:VCALENDAR
VERSION:2.0
PRODID:-//Walk and Bike Month - Boulder, CO - ECPv6.15.20//NONSGML v1.0//EN
CALSCALE:GREGORIAN
METHOD:PUBLISH
X-WR-CALNAME:Walk and Bike Month - Boulder, CO
X-ORIGINAL-URL:https://walkandbikemonth.org
X-WR-CALDESC:Events for Walk and Bike Month - Boulder, CO
REFRESH-INTERVAL;VALUE=DURATION:PT1H
X-Robots-Tag:noindex
X-PUBLISHED-TTL:PT1H
BEGIN:VTIMEZONE
TZID:America/Denver
BEGIN:DAYLIGHT
TZOFFSETFROM:-0700
TZOFFSETTO:-0600
TZNAME:MDT
DTSTART:20240310T090000
END:DAYLIGHT
BEGIN:STANDARD
TZOFFSETFROM:-0600
TZOFFSETTO:-0700
TZNAME:MST
DTSTART:20241103T080000
END:STANDARD
BEGIN:DAYLIGHT
TZOFFSETFROM:-0700
TZOFFSETTO:-0600
TZNAME:MDT
DTSTART:20250309T090000
END:DAYLIGHT
BEGIN:STANDARD
TZOFFSETFROM:-0600
TZOFFSETTO:-0700
TZNAME:MST
DTSTART:20251102T080000
END:STANDARD
BEGIN:DAYLIGHT
TZOFFSETFROM:-0700
TZOFFSETTO:-0600
TZNAME:MDT
DTSTART:20260308T090000
END:DAYLIGHT
BEGIN:STANDARD
TZOFFSETFROM:-0600
TZOFFSETTO:-0700
TZNAME:MST
DTSTART:20261101T080000
END:STANDARD
END:VTIMEZONE
BEGIN:VEVENT
DTSTART;TZID=America/Denver:20250612T180000
DTEND;TZID=America/Denver:20250612T200000
DTSTAMP:20260421T060522
CREATED:20250507T195231Z
LAST-MODIFIED:20250507T195231Z
UID:3073-1749751200-1749758400@walkandbikemonth.org
SUMMARY:Pride Ride with Boulder County Parks & Open Space
DESCRIPTION:Let’s celebrate Pride outside!\n⠀\nLGBTQIA+ riders and allies\, you’re invited to a no-drop group ride to celebrate Pride with our friends at Boulder County Parks & Open Space! Dressing in Pride wear is encouraged! \nWe’ll be riding Betasso\, an intermediate riding area. Expect flowing single track that is mostly easy\, with some small embedded rocks and rooty areas\, and few stiff pitches. Some trails are fairly narrow with exposure and may not be suitable for beginners. The full figure 8 route of both loops is a bit under 7 miles and 800 ft of elevation gain. \nMore info here. \nMore BMA rides & skill clinics here.
URL:https://walkandbikemonth.org/event/pride-ride-with-boulder-county-parks-open-space/
LOCATION:Bettaso Trailhead
ATTACH;FMTTYPE=image/png:https://walkandbikemonth.org/wp-content/uploads/2025/05/Screenshot-2025-05-07-1.52.02-PM.png
END:VEVENT
END:VCALENDAR